BEGIN:VCALENDAR
VERSION:2.0
PRODID:icalendar-ruby
CALSCALE:GREGORIAN
METHOD:PUBLISH
BEGIN:VEVENT
DTSTAMP:20260419T121218Z
UID:205-234815@myc3church.ca
DTSTART:20260509T010000Z
DTEND:20260509T030000Z
CLASS:PUBLIC
CREATED:20260415T201248
DESCRIPTION:C3 Calgary Ladies want to invite you to...\nSHE\, an evening wh
 ere we will gather across both locations\, to share appetizers\, connect w
 ith other ladies\, hear a word from our Guest Speaker: Marty Meyer and gro
 w closer with Christ. We also have 'For Kingdom and Sparrow' joining us wi
 th a pop up shop. So invite the ladies in your life to join us! \n7:00pm 
 - 9:00pm\nRSVP is needed!!\nBRING an appetizer to share\nGuest Speaker: Ma
 rty Meyer\nMarty’s story is a powerful testament to resilience\, faith\,
  and the miraculous grace of God. Through raw honesty and unwavering coura
 ge\, she invites you into a journey marked by heartbreak\, redemption\, an
 d the undeniable power of divine grace. Her story is not just one of survi
 val but of transformation\, proof that even in life’s darkest moments\, 
 God is at work\, turning pain into purpose.\nIG: @_martymeyer_\nAMAZON BOO
 K: SHE-NOT-BEGGAR BY Marty-Meyer
LAST-MODIFIED:20260415T201248
LOCATION:C3 West\, 91 Commercial Court
SUMMARY:SHE || C3 Calgary Ladies Event
URL;VALUE=URI:https://www.myc3church.ca/events/she-c3-calgary-ladies-event/
 2026-05-08
ATTACH;FILENAME=LADIES-EVENT-MAY-2026-Presentation.jpg;FMTTYPE=image/jpeg:h
 ttps://dq5pwpg1q8ru0.cloudfront.net/2026/04/16/01/56/34/e7dbfbcd-2ebc-4fe9
 -810f-d8b57deb9241/LADIES-EVENT-MAY-2026-Presentation.jpg
END:VEVENT
END:VCALENDAR
