BEGIN:VCALENDAR
VERSION:2.0
PRODID:icalendar-ruby
CALSCALE:GREGORIAN
METHOD:PUBLISH
BEGIN:VEVENT
DTSTAMP:20260419T121754Z
UID:203-226679@myc3church.ca
DTSTART:20260503T230000Z
DTEND:20260504T000000Z
CLASS:PUBLIC
CREATED:20260407T145036
DESCRIPTION:Join us for Bbque and Games Night\nSunday\, May 3rd @ 5:00pm\n\
 nLocation Jack &amp\; Maureen Suggett's\n\nPlease RSVP &amp\; let Maure
 en know if you are bringing a salad or dessert.
LAST-MODIFIED:20260407T145036
LOCATION:Location Jack & Maureen Suggett's
SUMMARY:Prime +
URL;VALUE=URI:https://www.myc3church.ca/events/prime--203/2026-05-03
ATTACH;FILENAME=Screenshot-2026-04-07-at-2.50.22PM.png;FMTTYPE=image/png:ht
 tps://dq5pwpg1q8ru0.cloudfront.net/2026/04/07/20/50/36/1c2b7544-f71b-4d49-
 825a-63a185936868/Screenshot-2026-04-07-at-2.50.22PM.png
END:VEVENT
END:VCALENDAR
